BEGIN:VCALENDAR
VERSION:2.0
PRODID:-//Stronger Texas, an initiative of Healthier Texas - ECPv6.15.14//NONSGML v1.0//EN
CALSCALE:GREGORIAN
METHOD:PUBLISH
X-WR-CALNAME:Stronger Texas, an initiative of Healthier Texas
X-ORIGINAL-URL:https://strongertexas.org
X-WR-CALDESC:Events for Stronger Texas, an initiative of Healthier Texas
REFRESH-INTERVAL;VALUE=DURATION:PT1H
X-Robots-Tag:noindex
X-PUBLISHED-TTL:PT1H
BEGIN:VTIMEZONE
TZID:America/Chicago
BEGIN:DAYLIGHT
TZOFFSETFROM:-0600
TZOFFSETTO:-0500
TZNAME:CDT
DTSTART:20230312T080000
END:DAYLIGHT
BEGIN:STANDARD
TZOFFSETFROM:-0500
TZOFFSETTO:-0600
TZNAME:CST
DTSTART:20231105T070000
END:STANDARD
BEGIN:DAYLIGHT
TZOFFSETFROM:-0600
TZOFFSETTO:-0500
TZNAME:CDT
DTSTART:20240310T080000
END:DAYLIGHT
BEGIN:STANDARD
TZOFFSETFROM:-0500
TZOFFSETTO:-0600
TZNAME:CST
DTSTART:20241103T070000
END:STANDARD
BEGIN:DAYLIGHT
TZOFFSETFROM:-0600
TZOFFSETTO:-0500
TZNAME:CDT
DTSTART:20250309T080000
END:DAYLIGHT
BEGIN:STANDARD
TZOFFSETFROM:-0500
TZOFFSETTO:-0600
TZNAME:CST
DTSTART:20251102T070000
END:STANDARD
END:VTIMEZONE
BEGIN:VEVENT
DTSTART;TZID=America/Chicago:20240503T173000
DTEND;TZID=America/Chicago:20240503T183000
DTSTAMP:20260421T052314
CREATED:20231208T180712Z
LAST-MODIFIED:20240220T181727Z
UID:10001337-1714757400-1714761000@strongertexas.org
SUMMARY:Virtual Zumba
DESCRIPTION:ZUMBA® is a fusion of Latin and International music / dance themes that create a dynamic and exciting workout. The routines feature aerobic/fitness interval training with a combination of fast and slow rhythms that tone and sculpt the body. All fitness levels are welcome! \nPlease reference our user guide on how to sign up\, RSVP\, and enter classes. English | Español
URL:https://strongertexas.org/class/virtual-zumba-5-3-2024/
CATEGORIES:Virtual Class
ATTACH;FMTTYPE=image/jpeg:https://strongertexas.org/wp-content/uploads/2020/08/zumba-photo-sa-1.jpg
END:VEVENT
BEGIN:VEVENT
DTSTART;TZID=America/Chicago:20240502T180000
DTEND;TZID=America/Chicago:20240502T190000
DTSTAMP:20260421T052314
CREATED:20231208T175115Z
LAST-MODIFIED:20240220T181713Z
UID:10001314-1714672800-1714676400@strongertexas.org
SUMMARY:Virtual Zumba
DESCRIPTION:ZUMBA® is a fusion of Latin and International music / dance themes that create a dynamic and exciting workout. The routines feature aerobic/fitness interval training with a combination of fast and slow rhythms that tone and sculpt the body. All fitness levels are welcome! \nPlease reference our user guide on how to sign up\, RSVP\, and enter classes. English | Español
URL:https://strongertexas.org/class/virtual-zumba-5-2-2024/
CATEGORIES:Virtual Class
ATTACH;FMTTYPE=image/jpeg:https://strongertexas.org/wp-content/uploads/2020/08/zumba-photo-sa-1.jpg
END:VEVENT
BEGIN:VEVENT
DTSTART;TZID=America/Chicago:20240501T180000
DTEND;TZID=America/Chicago:20240501T190000
DTSTAMP:20260421T052314
CREATED:20231207T215151Z
LAST-MODIFIED:20240904T200502Z
UID:10001253-1714586400-1714590000@strongertexas.org
SUMMARY:Virtual MixxedFit®
DESCRIPTION:MixxedFit® is a people-inspired dance fitness program that is a perfect blend of explosive dancing and boot camp inspired toning. Everything about this dance fitness program is big\, exaggerated\, and explosive! All fitness levels are welcome! \nPlease reference our user guide on how to sign up\, RSVP\, and enter classes. English | Español
URL:https://strongertexas.org/class/virtual-mixxedfit-5-1-2024/
LOCATION:Virtual Location
CATEGORIES:Virtual Class
ATTACH;FMTTYPE=image/jpeg:https://strongertexas.org/wp-content/uploads/2020/08/mixxed-fit-photo-sa-1.jpg
END:VEVENT
BEGIN:VEVENT
DTSTART;TZID=America/Chicago:20240501T070000
DTEND;TZID=America/Chicago:20240501T080000
DTSTAMP:20260421T052314
CREATED:20231207T223540Z
LAST-MODIFIED:20240220T181649Z
UID:10001273-1714546800-1714550400@strongertexas.org
SUMMARY:Virtual Low Impact Workout
DESCRIPTION:This low impact class involves a series of exercises using your own body weight for resistance. It will focus on recovering range of motion\, toning\, and will strengthen your legs\, core and back\, while improving your posture and flexibility. This is a great option for older adults or individuals with limited mobility. \nPlease reference our user guide on how to sign up\, RSVP\, and enter classes. English | Español
URL:https://strongertexas.org/class/virtual-low-impact-workout-5-1-2024/
LOCATION:Virtual Location
CATEGORIES:Virtual Class
ATTACH;FMTTYPE=image/jpeg:https://strongertexas.org/wp-content/uploads/2022/05/lowimpactwkout.jpg
END:VEVENT
END:VCALENDAR